BEGIN:VCALENDAR
VERSION:2.0
PRODID:-//Hof-Silberberg
CALSCALE:GREGORIAN
METHOD:PUBLISH
X-WR-CALNAME:Hof-Silberberg
X-ORIGINAL-URL:https://hof-silberberg.de/produkt/herbst-zauber-im-westerwald-dein-unvergessliches-wochenende/
X-WR-CALDESC:Herbst-Zauber im Westerwald – Dein unvergessliches Wochenende
BEGIN:VEVENT
DTSTART:20251002T150000
DTEND:20251004T160000
SUMMARY:Herbst-Zauber im Westerwald – Dein unvergessliches Wochenende
DESCRIPTION:
LOCATION:
END:VEVENT
END:VCALENDAR
